Workbook

Sheet Tracker
A1: Vendor and contract tracker
A2: Enter vendors below. Days to renewal and the highlights update automatically. The three example rows can be deleted.
A4: Vendor | B4: Service | C4: Owner | D4: Annual spend | E4: Contract start | F4: Renewal date | G4: Notice (days) | H4: Notice deadline | I4: Days to renewal | J4: Renewal flag | K4: Status | L4: Notes
A5: Example vendor A | B5: Cleaning | C5: Office manager | D5: 12000 | E5: =TODAY()-300 | F5: =TODAY()+25 | G5: 30 | H5: =IF(OR(F5="",G5=""),"",F5-G5) | I5: =IF(F5="","",F5-TODAY()) | J5: =IF(F5="","",IF(F5<TODAY(),"Past due",IF(F5-TODAY()<=30,"Renewing in 30 days",IF(F5-TODAY()<=90,"Renewing in 90 days","")))) | K5: Active | L5: Example row. Delete or overwrite.
A6: Example vendor B | B6: Equipment lease | C6: Office manager | D6: 8400 | E6: =TODAY()-200 | F6: =TODAY()+70 | G6: 60 | H6: =IF(OR(F6="",G6=""),"",F6-G6) | I6: =IF(F6="","",F6-TODAY()) | J6: =IF(F6="","",IF(F6<TODAY(),"Past due",IF(F6-TODAY()<=30,"Renewing in 30 days",IF(F6-TODAY()<=90,"Renewing in 90 days","")))) | K6: Active | L6: Example row. Delete or overwrite.
A7: Example vendor C | B7: Software | C7: IT lead | D7: 5000 | E7: =TODAY()-100 | F7: =TODAY()+200 | G7: 30 | H7: =IF(OR(F7="",G7=""),"",F7-G7) | I7: =IF(F7="","",F7-TODAY()) | J7: =IF(F7="","",IF(F7<TODAY(),"Past due",IF(F7-TODAY()<=30,"Renewing in 30 days",IF(F7-TODAY()<=90,"Renewing in 90 days","")))) | K7: Active | L7: Example row. Delete or overwrite.
H8: =IF(OR(F8="",G8=""),"",F8-G8) | I8: =IF(F8="","",F8-TODAY()) | J8: =IF(F8="","",IF(F8<TODAY(),"Past due",IF(F8-TODAY()<=30,"Renewing in 30 days",IF(F8-TODAY()<=90,"Renewing in 90 days",""))))
H9: =IF(OR(F9="",G9=""),"",F9-G9) | I9: =IF(F9="","",F9-TODAY()) | J9: =IF(F9="","",IF(F9<TODAY(),"Past due",IF(F9-TODAY()<=30,"Renewing in 30 days",IF(F9-TODAY()<=90,"Renewing in 90 days",""))))
H10: =IF(OR(F10="",G10=""),"",F10-G10) | I10: =IF(F10="","",F10-TODAY()) | J10: =IF(F10="","",IF(F10<TODAY(),"Past due",IF(F10-TODAY()<=30,"Renewing in 30 days",IF(F10-TODAY()<=90,"Renewing in 90 days",""))))
H11: =IF(OR(F11="",G11=""),"",F11-G11) | I11: =IF(F11="","",F11-TODAY()) | J11: =IF(F11="","",IF(F11<TODAY(),"Past due",IF(F11-TODAY()<=30,"Renewing in 30 days",IF(F11-TODAY()<=90,"Renewing in 90 days",""))))
H12: =IF(OR(F12="",G12=""),"",F12-G12) | I12: =IF(F12="","",F12-TODAY()) | J12: =IF(F12="","",IF(F12<TODAY(),"Past due",IF(F12-TODAY()<=30,"Renewing in 30 days",IF(F12-TODAY()<=90,"Renewing in 90 days",""))))
H13: =IF(OR(F13="",G13=""),"",F13-G13) | I13: =IF(F13="","",F13-TODAY()) | J13: =IF(F13="","",IF(F13<TODAY(),"Past due",IF(F13-TODAY()<=30,"Renewing in 30 days",IF(F13-TODAY()<=90,"Renewing in 90 days",""))))
H14: =IF(OR(F14="",G14=""),"",F14-G14) | I14: =IF(F14="","",F14-TODAY()) | J14: =IF(F14="","",IF(F14<TODAY(),"Past due",IF(F14-TODAY()<=30,"Renewing in 30 days",IF(F14-TODAY()<=90,"Renewing in 90 days",""))))
H15: =IF(OR(F15="",G15=""),"",F15-G15) | I15: =IF(F15="","",F15-TODAY()) | J15: =IF(F15="","",IF(F15<TODAY(),"Past due",IF(F15-TODAY()<=30,"Renewing in 30 days",IF(F15-TODAY()<=90,"Renewing in 90 days",""))))
H16: =IF(OR(F16="",G16=""),"",F16-G16) | I16: =IF(F16="","",F16-TODAY()) | J16: =IF(F16="","",IF(F16<TODAY(),"Past due",IF(F16-TODAY()<=30,"Renewing in 30 days",IF(F16-TODAY()<=90,"Renewing in 90 days",""))))
H17: =IF(OR(F17="",G17=""),"",F17-G17) | I17: =IF(F17="","",F17-TODAY()) | J17: =IF(F17="","",IF(F17<TODAY(),"Past due",IF(F17-TODAY()<=30,"Renewing in 30 days",IF(F17-TODAY()<=90,"Renewing in 90 days",""))))
H18: =IF(OR(F18="",G18=""),"",F18-G18) | I18: =IF(F18="","",F18-TODAY()) | J18: =IF(F18="","",IF(F18<TODAY(),"Past due",IF(F18-TODAY()<=30,"Renewing in 30 days",IF(F18-TODAY()<=90,"Renewing in 90 days",""))))
H19: =IF(OR(F19="",G19=""),"",F19-G19) | I19: =IF(F19="","",F19-TODAY()) | J19: =IF(F19="","",IF(F19<TODAY(),"Past due",IF(F19-TODAY()<=30,"Renewing in 30 days",IF(F19-TODAY()<=90,"Renewing in 90 days",""))))
... H104: =IF(OR(F104="",G104=""),"",F104-G104) | I104: =IF(F104="","",F104-TODAY()) | J104: =IF(F104="","",IF(F104<TODAY(),"Past due",IF(F104-TODAY()<=30,"Renewing in 30 days",IF(F104-TODAY()<=90,"Renewing in 90 days",""))))

Sheet Summary
A1: Summary
A3: Vendors tracked | B3: =COUNTA(Tracker!A5:A104)
A4: Total annual spend | B4: =SUM(Tracker!D5:D104)
A5: Renewing in the next 90 days | B5: =COUNTIFS(Tracker!I5:I104,">=0",Tracker!I5:I104,"<=90")
A6: Annual spend renewing in 90 days | B6: =SUMIFS(Tracker!D5:D104,Tracker!I5:I104,">=0",Tracker!I5:I104,"<=90")
A7: Renewing in the next 30 days | B7: =COUNTIFS(Tracker!I5:I104,">=0",Tracker!I5:I104,"<=30")
A8: Past due | B8: =COUNTIF(Tracker!I5:I104,"<0")
A11: For personal or internal business use only. Not for resale or redistribution. © Joyhdae Albert

Sheet How to use
A1: How to use this tracker
A3: 1. On the Tracker sheet, replace the three example rows with your vendors. Add up to 100 rows.
A4: 2. Enter the renewal date and the notice period in days. The notice deadline is worked out for you.
A5: 3. Rows renewing within 90 days are tinted. Within 30 days they are stronger. Past due rows are the strongest.
A6: 4. Set the status from the drop-down. Terminated rows are greyed out and struck through.
A7: 5. The Summary sheet totals spend and counts upcoming renewals.
A8: 6. Use the filter arrows in the header row to sort by renewal date, owner, or status.
A10: For personal or internal business use only. Not for resale or redistribution. © Joyhdae Albert
